BEGIN:VCALENDAR
VERSION:2.0
PRODID:-//Lynchburg Humane Society - ECPv5.16.2.1//NONSGML v1.0//EN
CALSCALE:GREGORIAN
METHOD:PUBLISH
X-WR-CALNAME:Lynchburg Humane Society
X-ORIGINAL-URL:https://lynchburghumane.org
X-WR-CALDESC:Events for Lynchburg Humane Society
BEGIN:VTIMEZONE
TZID:UTC
BEGIN:STANDARD
TZOFFSETFROM:+0000
TZOFFSETTO:+0000
TZNAME:UTC
DTSTART:20260101T000000
END:STANDARD
END:VTIMEZONE
BEGIN:VEVENT
DTSTART;TZID=UTC:20260713T123000
DTEND;TZID=UTC:20260717T163000
DTSTAMP:20260421T182355
CREATED:20260309T160823Z
LAST-MODIFIED:20260309T160823Z
UID:15845-1783945800-1784305800@lynchburghumane.org
SUMMARY:Summer Camp Happiness! Week 4
DESCRIPTION:The Center for Pets is offering 7 weeks of summer camps for children ages 7-12 for summer 2026! All camps include guest speakers\, special animal guests\, crafts\, activities\, snacks\, & time to visit with pets. Full week campers will also receive an LHS T-shirt! \nDates:\nJuly 13 – 17 \nDetails and Fees:\nCamp is from 12:30 pm to 4:30pm Monday thru Friday. Each week of camp is $175 per camper for a full week and $42 per individual day of camp.
URL:https://lynchburghumane.org/event/summer-camp-happiness-week-4/
END:VEVENT
END:VCALENDAR