BEGIN:VCALENDAR
VERSION:2.0
PRODID:-//Lynchburg Humane Society - ECPv5.16.2.1//NONSGML v1.0//EN
CALSCALE:GREGORIAN
METHOD:PUBLISH
X-WR-CALNAME:Lynchburg Humane Society
X-ORIGINAL-URL:https://lynchburghumane.org
X-WR-CALDESC:Events for Lynchburg Humane Society
BEGIN:VTIMEZONE
TZID:UTC
BEGIN:STANDARD
TZOFFSETFROM:+0000
TZOFFSETTO:+0000
TZNAME:UTC
DTSTART:20260101T000000
END:STANDARD
END:VTIMEZONE
BEGIN:VEVENT
DTSTART;TZID=UTC:20260803T123000
DTEND;TZID=UTC:20260807T163000
DTSTAMP:20260421T220359
CREATED:20260309T161111Z
LAST-MODIFIED:20260309T161111Z
UID:15850-1785760200-1786120200@lynchburghumane.org
SUMMARY:Summer Camp Happiness! Week 6
DESCRIPTION:The Center for Pets is offering 7 weeks of summer camps for children ages 7-12 for summer 2026! All camps include guest speakers\, special animal guests\, crafts\, activities\, snacks\, & time to visit with pets. Full week campers will also receive an LHS T-shirt! \nDates:\nAugust 3 – 7 \nDetails and Fees:\nCamp is from 12:30 pm to 4:30pm Monday thru Friday. Each week of camp is $175 per camper for a full week and $42 per individual day of camp.
URL:https://lynchburghumane.org/event/summer-camp-happiness-week-6/
END:VEVENT
END:VCALENDAR