BEGIN:VCALENDAR
VERSION:2.0
PRODID:-//Lynchburg Humane Society - ECPv5.16.2.1//NONSGML v1.0//EN
CALSCALE:GREGORIAN
METHOD:PUBLISH
X-WR-CALNAME:Lynchburg Humane Society
X-ORIGINAL-URL:https://lynchburghumane.org
X-WR-CALDESC:Events for Lynchburg Humane Society
BEGIN:VTIMEZONE
TZID:UTC
BEGIN:STANDARD
TZOFFSETFROM:+0000
TZOFFSETTO:+0000
TZNAME:UTC
DTSTART:20260101T000000
END:STANDARD
END:VTIMEZONE
BEGIN:VEVENT
DTSTART;TZID=UTC:20260406T090000
DTEND;TZID=UTC:20260410T150000
DTSTAMP:20260424T173529
CREATED:20260309T155907Z
LAST-MODIFIED:20260309T155907Z
UID:15833-1775466000-1775833200@lynchburghumane.org
SUMMARY:2026 Spring Break Camp Happiness!
DESCRIPTION:Spring Break Camp is back! You can drop your kids off for a day or the entire week! This animal camp for kids is a good time full of special guests (the human kind & animal kind)\, lessons on pet care\, games\, crafts\, snacks\, & more! Each full-week camper will also receive an LHS t-shirt!\nDates:April 6th – 10th\, 20269:00 a.m. – 3:00 p.m.\nDetails and Fees:Ages 7-12 years. $235 for all 5 days or $60 per day. Sibling discounted fee for 2nd+ child from same family for the full camp – $200. Campers bring a bagged lunch!
URL:https://lynchburghumane.org/event/2026-spring-break-camp-happiness/
END:VEVENT
END:VCALENDAR