BEGIN:VCALENDAR
VERSION:2.0
PRODID:-//Lynchburg Humane Society - ECPv5.16.2.1//NONSGML v1.0//EN
CALSCALE:GREGORIAN
METHOD:PUBLISH
X-WR-CALNAME:Lynchburg Humane Society
X-ORIGINAL-URL:https://lynchburghumane.org
X-WR-CALDESC:Events for Lynchburg Humane Society
BEGIN:VTIMEZONE
TZID:UTC
BEGIN:STANDARD
TZOFFSETFROM:+0000
TZOFFSETTO:+0000
TZNAME:UTC
DTSTART:20260101T000000
END:STANDARD
END:VTIMEZONE
BEGIN:VEVENT
DTSTART;TZID=UTC:20260420T173000
DTEND;TZID=UTC:20260420T183000
DTSTAMP:20260424T174237
CREATED:20250116T165017Z
LAST-MODIFIED:20260316T125210Z
UID:15642-1776706200-1776709800@lynchburghumane.org
SUMMARY:Cat Yoga!
DESCRIPTION:Come get your zen on at LHS and do yoga with some adoptable cats! Yoga instructor\, Lucy Hathaway will lead a free yoga class for all ages and levels and will guide you through 1 hour of yoga poses with friendly felines. Don’t forget to bring a yoga mat! \n*Please bring your own yoga mat and any other items you’ll need for class!*
URL:https://lynchburghumane.org/event/cat-yoga/2026-04-20/
END:VEVENT
END:VCALENDAR