BEGIN:VCALENDAR
VERSION:2.0
PRODID:-//Lynchburg Humane Society - ECPv5.16.2.1//NONSGML v1.0//EN
CALSCALE:GREGORIAN
METHOD:PUBLISH
X-WR-CALNAME:Lynchburg Humane Society
X-ORIGINAL-URL:https://lynchburghumane.org
X-WR-CALDESC:Events for Lynchburg Humane Society
BEGIN:VTIMEZONE
TZID:UTC
BEGIN:STANDARD
TZOFFSETFROM:+0000
TZOFFSETTO:+0000
TZNAME:UTC
DTSTART:20260101T000000
END:STANDARD
END:VTIMEZONE
BEGIN:VEVENT
DTSTART;TZID=UTC:20260425T180000
DTEND;TZID=UTC:20260425T220000
DTSTAMP:20260424T174352
CREATED:20260105T175427Z
LAST-MODIFIED:20260316T142211Z
UID:15654-1777140000-1777154400@lynchburghumane.org
SUMMARY:Best Friend Ball 2026
DESCRIPTION:Unmask your generosity for pets with us at the Masquerade-themed 2026 Best Friend Ball! \nSave the Date for the 16th Annual Best Friend Ball!
URL:https://lynchburghumane.org/event/best-friend-ball-2026/
LOCATION:Academy Center of the Arts\, 600 Main Street\, Lynchburg\, VA\, 24504\, United States
GEO:37.417366;-79.1441534
X-APPLE-STRUCTURED-LOCATION;VALUE=URI;X-ADDRESS=Academy Center of the Arts 600 Main Street Lynchburg VA 24504 United States;X-APPLE-RADIUS=500;X-TITLE=600 Main Street:geo:-79.1441534,37.417366
END:VEVENT
END:VCALENDAR