BEGIN:VCALENDAR
VERSION:2.0
PRODID:-//Lynchburg Humane Society - ECPv5.16.2.1//NONSGML v1.0//EN
CALSCALE:GREGORIAN
METHOD:PUBLISH
X-WR-CALNAME:Lynchburg Humane Society
X-ORIGINAL-URL:https://lynchburghumane.org
X-WR-CALDESC:Events for Lynchburg Humane Society
BEGIN:VTIMEZONE
TZID:UTC
BEGIN:STANDARD
TZOFFSETFROM:+0000
TZOFFSETTO:+0000
TZNAME:UTC
DTSTART:20260101T000000
END:STANDARD
END:VTIMEZONE
BEGIN:VEVENT
DTSTART;TZID=UTC:20260516T130000
DTEND;TZID=UTC:20260516T150000
DTSTAMP:20260424T192212
CREATED:20260401T164452Z
LAST-MODIFIED:20260401T164452Z
UID:15929-1778936400-1778943600@lynchburghumane.org
SUMMARY:Kitten Shower!
DESCRIPTION:Our 7th Annual Kitten Shower is Saturday\, May 16th! Join us as we celebrate our foster community\, soak up the joy kittens bring us all\, and learn how you can help kittens too! Participate in crafts\, trivia\, Q&A\, demonstrations and more!\n\nRSVP on the Facebook event and check out our needed supplies here: https://a.co/iCNJ7xK
URL:https://lynchburghumane.org/event/kitten-shower/
END:VEVENT
END:VCALENDAR