BEGIN:VCALENDAR
VERSION:2.0
PRODID:-//Lynchburg Humane Society - ECPv5.16.2.1//NONSGML v1.0//EN
CALSCALE:GREGORIAN
METHOD:PUBLISH
X-WR-CALNAME:Lynchburg Humane Society
X-ORIGINAL-URL:https://lynchburghumane.org
X-WR-CALDESC:Events for Lynchburg Humane Society
BEGIN:VTIMEZONE
TZID:UTC
BEGIN:STANDARD
TZOFFSETFROM:+0000
TZOFFSETTO:+0000
TZNAME:UTC
DTSTART:20260101T000000
END:STANDARD
END:VTIMEZONE
BEGIN:VEVENT
DTSTART;TZID=UTC:20260615T123000
DTEND;TZID=UTC:20260619T163000
DTSTAMP:20260424T224536
CREATED:20260309T160418Z
LAST-MODIFIED:20260309T161344Z
UID:15836-1781526600-1781886600@lynchburghumane.org
SUMMARY:Summer Camp Happiness! Week 1
DESCRIPTION:The Center for Pets is offering 7 weeks of summer camps for children ages 7-12 for summer 2026! All camps include guest speakers\, special animal guests\, crafts\, activities\, snacks\, & time to visit with pets. Full week campers will also receive an LHS T-shirt!\nDates: June 15 – 19\nDetails and Fees:Camp is from 12:30 pm to 4:30pm Monday thru Friday. Each week of camp is $175 per camper for a full week and $42 per individual day of camp.
URL:https://lynchburghumane.org/event/summer-camp-happiness/
END:VEVENT
BEGIN:VEVENT
DTSTART;TZID=UTC:20260615T173000
DTEND;TZID=UTC:20260615T183000
DTSTAMP:20260424T224536
CREATED:20250116T165017Z
LAST-MODIFIED:20260316T125211Z
UID:15644-1781544600-1781548200@lynchburghumane.org
SUMMARY:Cat Yoga!
DESCRIPTION:Come get your zen on at LHS and do yoga with some adoptable cats! Yoga instructor\, Lucy Hathaway will lead a free yoga class for all ages and levels and will guide you through 1 hour of yoga poses with friendly felines. Don’t forget to bring a yoga mat! \n*Please bring your own yoga mat and any other items you’ll need for class!*
URL:https://lynchburghumane.org/event/cat-yoga/2026-06-15/
END:VEVENT
END:VCALENDAR